BEGIN:VCALENDAR
VERSION:2.0
PRODID:-//PLR Le Landeron - ECPv6.15.20//NONSGML v1.0//EN
CALSCALE:GREGORIAN
METHOD:PUBLISH
X-WR-CALNAME:PLR Le Landeron
X-ORIGINAL-URL:https://www.plr-landeron.ch
X-WR-CALDESC:Évènements pour PLR Le Landeron
REFRESH-INTERVAL;VALUE=DURATION:PT1H
X-Robots-Tag:noindex
X-PUBLISHED-TTL:PT1H
BEGIN:VTIMEZONE
TZID:UTC
BEGIN:STANDARD
TZOFFSETFROM:+0000
TZOFFSETTO:+0000
TZNAME:UTC
DTSTART:20230101T000000
END:STANDARD
END:VTIMEZONE
BEGIN:VEVENT
DTSTART;VALUE=DATE:20241124
DTEND;VALUE=DATE:20241125
DTSTAMP:20260424T180230
CREATED:20241108T155514Z
LAST-MODIFIED:20241111T071630Z
UID:410-1732406400-1732492799@www.plr-landeron.ch
SUMMARY:Votations cantonale et fédérales
DESCRIPTION:Fédérales : 4x OUI\nCantonale : liberté de vote \nRecommandation de vote PLR
URL:https://www.plr-landeron.ch/event/votations-cantonale-et-federales-24nov/
LOCATION:Neuchâtel
CATEGORIES:Votation - élections
END:VEVENT
END:VCALENDAR