BEGIN:VCALENDAR
VERSION:2.0
PRODID:-//PLR Le Landeron - ECPv6.15.20//NONSGML v1.0//EN
CALSCALE:GREGORIAN
METHOD:PUBLISH
X-WR-CALNAME:PLR Le Landeron
X-ORIGINAL-URL:https://www.plr-landeron.ch
X-WR-CALDESC:Évènements pour PLR Le Landeron
REFRESH-INTERVAL;VALUE=DURATION:PT1H
X-Robots-Tag:noindex
X-PUBLISHED-TTL:PT1H
BEGIN:VTIMEZONE
TZID:Europe/Zurich
BEGIN:DAYLIGHT
TZOFFSETFROM:+0100
TZOFFSETTO:+0200
TZNAME:CEST
DTSTART:20240331T010000
END:DAYLIGHT
BEGIN:STANDARD
TZOFFSETFROM:+0200
TZOFFSETTO:+0100
TZNAME:CET
DTSTART:20241027T010000
END:STANDARD
BEGIN:DAYLIGHT
TZOFFSETFROM:+0100
TZOFFSETTO:+0200
TZNAME:CEST
DTSTART:20250330T010000
END:DAYLIGHT
BEGIN:STANDARD
TZOFFSETFROM:+0200
TZOFFSETTO:+0100
TZNAME:CET
DTSTART:20251026T010000
END:STANDARD
BEGIN:DAYLIGHT
TZOFFSETFROM:+0100
TZOFFSETTO:+0200
TZNAME:CEST
DTSTART:20260329T010000
END:DAYLIGHT
BEGIN:STANDARD
TZOFFSETFROM:+0200
TZOFFSETTO:+0100
TZNAME:CET
DTSTART:20261025T010000
END:STANDARD
END:VTIMEZONE
BEGIN:VEVENT
DTSTART;TZID=Europe/Zurich:20250403T200000
DTEND;TZID=Europe/Zurich:20250403T213000
DTSTAMP:20260423T130527
CREATED:20250328T132653Z
LAST-MODIFIED:20250924T091749Z
UID:1093-1743710400-1743715800@www.plr-landeron.ch
SUMMARY:Conférence : dérèglement climatique des forêts\, et nos jardins ?
DESCRIPTION:  \n\n\n\nJeudi 3 avril à l’aula communale – 20h \nLe dérèglement climatique impose l’adaptation des forêts\, mais qu’en est-il de nos jardins ?\nLa conférence présentera les défis de demain pour nos forêts et nos jardins face au changement climatique et même pour nos bacs de balcons. Notre expert forestier partagera ses connaissances et prodiguera des conseils pratiques pour des plantations résilientes.\nCette conférence fait le lien avec la plantation de 700 chênes dans le cadre du 700e du Landeron. Cette conférence se conclura par un apéritif prolongeant les discussions et échanges informels.\nElle s’adresse à tous ceux qui souhaitent agir face aux enjeux environnementaux actuels. \nConférencier : Monsieur Jan Boni\, ingénieur forestier d’arrondissement \nConférence gratuite suivie d’un apéritif pour continuer d’échanger avec le public.
URL:https://www.plr-landeron.ch/event/conference-publique-gratuite/
LOCATION:Bâtiment communal\, rue du Centre 6
CATEGORIES:Activié
END:VEVENT
BEGIN:VEVENT
DTSTART;TZID=Europe/Zurich:20250405T090000
DTEND;TZID=Europe/Zurich:20250405T160000
DTSTAMP:20260423T130527
CREATED:20241223T070732Z
LAST-MODIFIED:20250203T131423Z
UID:772-1743843600-1743868800@www.plr-landeron.ch
SUMMARY:700e│plantation d'arbres
DESCRIPTION:Souvenirs forestier – 700 arbres à 700m pour les 700 ans\nL’avenir passe aussi par l’écologie. C’est dans cette optique que ce projet prévoit de planter 700 arbres à 700 mètres d’altitude\, dans les hauteurs du Landeron. L’essence “Chênes de Boudry” a été sélectionnée\, afin d’anticiper au mieux le changement climatique. Les intéressés peuvent d’ores et déjà parrainer un arbre sur le site www.lelanderon700.ch/shop. Ce projet est réalisé en partenariat avec le service des forêts de la commune. \nhttps://www.lelanderon700.ch/event/plantation-d-arbres-1/
URL:https://www.plr-landeron.ch/event/700e-plantation-arbres/
LOCATION:Neuchâtel
CATEGORIES:Activié
END:VEVENT
BEGIN:VEVENT
DTSTART;VALUE=DATE:20250412
DTEND;VALUE=DATE:20250428
DTSTAMP:20260423T130527
CREATED:20250202T102647Z
LAST-MODIFIED:20250203T131615Z
UID:946-1744416000-1745798399@www.plr-landeron.ch
SUMMARY:700e│balade des fontaines 1
DESCRIPTION:De l’art autour de l’eau\nLes fontaines sont un élément important de l’histoire du Landeron. Elles seront décorées selon différents thèmes. Elles seront mises en valeur deux fois pendant l’année 2025 : second événement en octobre \nhttps://www.lelanderon700.ch/event/decorations-de-fontaines-1-2-13/
URL:https://www.plr-landeron.ch/event/700e-decorations-de-fontaines-1/
LOCATION:Neuchâtel
CATEGORIES:Activié
END:VEVENT
BEGIN:VEVENT
DTSTART;TZID=Europe/Zurich:20250419T100000
DTEND;TZID=Europe/Zurich:20250419T180000
DTSTAMP:20260423T130527
CREATED:20250407T154019Z
LAST-MODIFIED:20250410T154456Z
UID:1105-1745056800-1745085600@www.plr-landeron.ch
SUMMARY:Chasse aux œufs 🐣🐰
DESCRIPTION:2e édition de notre chasse aux œufs au bord du lac (à côté de la piscine) \nhttps://www.plr-landeron.ch/chasse-aux-oeufs/ \nVenez nombreux dès 10h\, restauration\, décorations d’œufs pour les enfants et tournoi de pétanque
URL:https://www.plr-landeron.ch/event/chasse-aux-oeufs/
LOCATION:Piscine du Landeron\, Route de la Piscine\, Le Landeron\, Neuchâtel\, 2525\, Switzerland
CATEGORIES:Activié,PLR Landeron
END:VEVENT
BEGIN:VEVENT
DTSTART;TZID=Europe/Zurich:20250426T080000
DTEND;TZID=Europe/Zurich:20250426T080000
DTSTAMP:20260423T130527
CREATED:20241223T071137Z
LAST-MODIFIED:20250203T131713Z
UID:775-1745654400-1745654400@www.plr-landeron.ch
SUMMARY:700e│vernissage de l'exposition du musée
DESCRIPTION:Vernissage de l’exposition spéciale du musée\n“25 objets et 25 personnalités pour les 700 ans du Landeron”. C’est avec ce clin d’œil au code postal landeronnais\, qu’une exposition sera présentée au musée. Par ailleurs\, trois conférences données par des spécialistes – Christian de Reynier\, Lionel Bartolini et Claire Piguet – poseront les bases au jubilé landeronnais. 2e conférence et 3e conférence \nhttps://www.lelanderon700.ch/event/vernissage-de-l-exposition-du-musee-15/
URL:https://www.plr-landeron.ch/event/700e-vernissage-exposition-musee/
LOCATION:Hôtel de Ville
CATEGORIES:Activié
END:VEVENT
END:VCALENDAR