BEGIN:VCALENDAR
VERSION:2.0
PRODID:-//PLR Le Landeron - ECPv6.15.20//NONSGML v1.0//EN
CALSCALE:GREGORIAN
METHOD:PUBLISH
X-ORIGINAL-URL:https://www.plr-landeron.ch
X-WR-CALDESC:Évènements pour PLR Le Landeron
REFRESH-INTERVAL;VALUE=DURATION:PT1H
X-Robots-Tag:noindex
X-PUBLISHED-TTL:PT1H
BEGIN:VTIMEZONE
TZID:Europe/Zurich
BEGIN:DAYLIGHT
TZOFFSETFROM:+0100
TZOFFSETTO:+0200
TZNAME:CEST
DTSTART:20240331T010000
END:DAYLIGHT
BEGIN:STANDARD
TZOFFSETFROM:+0200
TZOFFSETTO:+0100
TZNAME:CET
DTSTART:20241027T010000
END:STANDARD
BEGIN:DAYLIGHT
TZOFFSETFROM:+0100
TZOFFSETTO:+0200
TZNAME:CEST
DTSTART:20250330T010000
END:DAYLIGHT
BEGIN:STANDARD
TZOFFSETFROM:+0200
TZOFFSETTO:+0100
TZNAME:CET
DTSTART:20251026T010000
END:STANDARD
BEGIN:DAYLIGHT
TZOFFSETFROM:+0100
TZOFFSETTO:+0200
TZNAME:CEST
DTSTART:20260329T010000
END:DAYLIGHT
BEGIN:STANDARD
TZOFFSETFROM:+0200
TZOFFSETTO:+0100
TZNAME:CET
DTSTART:20261025T010000
END:STANDARD
END:VTIMEZONE
BEGIN:VEVENT
DTSTART;VALUE=DATE:20250323
DTEND;VALUE=DATE:20250324
DTSTAMP:20260424T052951
CREATED:20250308T071757Z
LAST-MODIFIED:20250308T072249Z
UID:1042-1742688000-1742774399@www.plr-landeron.ch
SUMMARY:Elections cantonales - 23 mars 2025
DESCRIPTION:Elections cantonales du 23 mars 2025\npour le Grand Conseil et le Co​​​nseil d’Etat\n\nprogramme PLR pour les 4 prochaines années : https://www.plrn.ch/elections-cantonales-2025/programme-de-campagne \n \n 
URL:https://www.plr-landeron.ch/event/elections-cantonales-23-mars-2025/
LOCATION:Neuchâtel
CATEGORIES:PLRN
END:VEVENT
END:VCALENDAR