BEGIN:VCALENDAR
VERSION:2.0
PRODID:-//PLR Le Landeron - ECPv6.15.20//NONSGML v1.0//EN
CALSCALE:GREGORIAN
METHOD:PUBLISH
X-WR-CALNAME:PLR Le Landeron
X-ORIGINAL-URL:https://www.plr-landeron.ch
X-WR-CALDESC:Évènements pour PLR Le Landeron
REFRESH-INTERVAL;VALUE=DURATION:PT1H
X-Robots-Tag:noindex
X-PUBLISHED-TTL:PT1H
BEGIN:VTIMEZONE
TZID:Europe/Zurich
BEGIN:DAYLIGHT
TZOFFSETFROM:+0100
TZOFFSETTO:+0200
TZNAME:CEST
DTSTART:20230326T010000
END:DAYLIGHT
BEGIN:STANDARD
TZOFFSETFROM:+0200
TZOFFSETTO:+0100
TZNAME:CET
DTSTART:20231029T010000
END:STANDARD
BEGIN:DAYLIGHT
TZOFFSETFROM:+0100
TZOFFSETTO:+0200
TZNAME:CEST
DTSTART:20240331T010000
END:DAYLIGHT
BEGIN:STANDARD
TZOFFSETFROM:+0200
TZOFFSETTO:+0100
TZNAME:CET
DTSTART:20241027T010000
END:STANDARD
BEGIN:DAYLIGHT
TZOFFSETFROM:+0100
TZOFFSETTO:+0200
TZNAME:CEST
DTSTART:20250330T010000
END:DAYLIGHT
BEGIN:STANDARD
TZOFFSETFROM:+0200
TZOFFSETTO:+0100
TZNAME:CET
DTSTART:20251026T010000
END:STANDARD
END:VTIMEZONE
BEGIN:VEVENT
DTSTART;TZID=Europe/Zurich:20241218T180000
DTEND;TZID=Europe/Zurich:20241218T200000
DTSTAMP:20260425T003852
CREATED:20241105T104407Z
LAST-MODIFIED:20241108T155333Z
UID:285-1734544800-1734552000@www.plr-landeron.ch
SUMMARY:Raclette PLRN
DESCRIPTION:Le PLRN vous convie à sa traditionnelle raclette de fin d’année le 18 décembre 2024\, dès 18h\, rue de Flandres 1\, au centre-ville de Neuchâtel\, devant le secrétariat cantonal du parti.
URL:https://www.plr-landeron.ch/event/raclette-plrn/
LOCATION:rue des Flandres 1\, 2000 Neuchâtel\, rue des Flandres 1\, Neuchâtel\, Switzerland
CATEGORIES:PLRN
END:VEVENT
END:VCALENDAR